BEGIN:VCALENDAR
VERSION:2.0
PRODID:-//Henk Poort - ECPv6.8.2.1//NONSGML v1.0//EN
CALSCALE:GREGORIAN
METHOD:PUBLISH
X-WR-CALNAME:Henk Poort
X-ORIGINAL-URL:https://henkpoort.nl
X-WR-CALDESC:Evenementen voor Henk Poort
REFRESH-INTERVAL;VALUE=DURATION:PT1H
X-Robots-Tag:noindex
X-PUBLISHED-TTL:PT1H
BEGIN:VTIMEZONE
TZID:Europe/Amsterdam
BEGIN:DAYLIGHT
TZOFFSETFROM:+0100
TZOFFSETTO:+0200
TZNAME:CEST
DTSTART:20260329T010000
END:DAYLIGHT
BEGIN:STANDARD
TZOFFSETFROM:+0200
TZOFFSETTO:+0100
TZNAME:CET
DTSTART:20261025T010000
END:STANDARD
END:VTIMEZONE
BEGIN:VEVENT
DTSTART;TZID=Europe/Amsterdam:20260215T150000
DTEND;TZID=Europe/Amsterdam:20260215T150000
DTSTAMP:20260417T180531
CREATED:20250521T111045Z
LAST-MODIFIED:20250521T111045Z
UID:16295-1771167600-1771167600@henkpoort.nl
SUMMARY:Zutphen - Theater Hanzehof - Als de dag van toen
DESCRIPTION:In de plaatselijke bloemenzaak ondersteunen de dochters van Koos (Henk Poort) hun vader na het overlijden van hun moeder. Eigenlijk betekent dit; zij doen het werk en Koos zorgt voor het entertainment. Wanneer de beroemde zanger Toon in de winkel komt\, wordt hij op slag verliefd op een van de dochters. Helaas vindt zijn moeder Kobie (Marjolijn Touw) haar niet goed genoeg voor haar zoon.Dit zorgt voor hilarische- en ontroerende situaties\, plus een inkijkje in de geschiedenis van Koos en Kobie zelf. En de grote vraag: Gaat het nu weer ‘Zoals de dag van Toen’? \nDe voorstelling\, geregisseerd door Caroline Frerichs\, wordt muzikaal omlijst met liedjes uit de oude doos zoals: ‘Wil u een stekkie?’\, ‘De Krokus en de Hyacint’ of ‘Hé\, niet zoenen op het zebrapad.’ Deze heerlijke deuntjes worden door het geweldige Het Trio van Toen\, met onder andere Michael van Praag\, ten gehore gebracht. \nDeze feelgood voorstelling vol liefde en humor brengt echt mensen samen en is dementie-vriendelijk.
URL:https://henkpoort.nl/agenda/zutphen-theater-hanzehof-als-de-dag-van-toen/
CATEGORIES:Musical
ATTACH;FMTTYPE=image/jpeg:https://henkpoort.nl/wp-content/uploads/2025/05/afiche-alsdedagvantoen.jpg
END:VEVENT
END:VCALENDAR